BEGIN:VCALENDAR
VERSION:2.0
PRODID:-//District 3 SkyWarn - ECPv6.15.20//NONSGML v1.0//EN
CALSCALE:GREGORIAN
METHOD:PUBLISH
X-ORIGINAL-URL:https://skywarnd3.com
X-WR-CALDESC:Events for District 3 SkyWarn
REFRESH-INTERVAL;VALUE=DURATION:PT1H
X-Robots-Tag:noindex
X-PUBLISHED-TTL:PT1H
BEGIN:VTIMEZONE
TZID:America/New_York
BEGIN:DAYLIGHT
TZOFFSETFROM:-0500
TZOFFSETTO:-0400
TZNAME:EDT
DTSTART:20250309T070000
END:DAYLIGHT
BEGIN:STANDARD
TZOFFSETFROM:-0400
TZOFFSETTO:-0500
TZNAME:EST
DTSTART:20251102T060000
END:STANDARD
BEGIN:DAYLIGHT
TZOFFSETFROM:-0500
TZOFFSETTO:-0400
TZNAME:EDT
DTSTART:20260308T070000
END:DAYLIGHT
BEGIN:STANDARD
TZOFFSETFROM:-0400
TZOFFSETTO:-0500
TZNAME:EST
DTSTART:20261101T060000
END:STANDARD
BEGIN:DAYLIGHT
TZOFFSETFROM:-0500
TZOFFSETTO:-0400
TZNAME:EDT
DTSTART:20270314T070000
END:DAYLIGHT
BEGIN:STANDARD
TZOFFSETFROM:-0400
TZOFFSETTO:-0500
TZNAME:EST
DTSTART:20271107T060000
END:STANDARD
END:VTIMEZONE
BEGIN:VEVENT
DTSTART;TZID=America/New_York:20260331T180000
DTEND;TZID=America/New_York:20260331T200000
DTSTAMP:20260425T090257
CREATED:20260123T194319Z
LAST-MODIFIED:20260123T194319Z
UID:3476-1774980000-1774987200@skywarnd3.com
SUMMARY:Wayne Co. NWS SkyWarn Class March 31\, 2026 6:00-8:00 PM
DESCRIPTION:Wayne Co. NWS SkyWarn Class March 31\, 2026 6:00-8:00 PM \nWayne county public library\, 220 W Liberty St\,  \nWooster\, OH 44691
URL:https://skywarnd3.com/event/wayne-co-nws-skywarn-class-march-31-2026-600-800-pm/
LOCATION:Wayne county public library\, 220 W Liberty St\, Wooster\, OH\, 44691\, United States
CATEGORIES:NWS Cleveland
END:VEVENT
BEGIN:VEVENT
DTSTART;TZID=America/New_York:20260414T180000
DTEND;TZID=America/New_York:20260414T200000
DTSTAMP:20260425T090257
CREATED:20260123T195659Z
LAST-MODIFIED:20260123T195659Z
UID:3480-1776189600-1776196800@skywarnd3.com
SUMMARY:Ashland Co. NWS SkyWarn Class April 14\, 2026 6:00-8:00 PM
DESCRIPTION:Ashland Co. NWS SkyWarn Class April 14\, 2026 6:00-8:00 PM \nAshland EMA\, 110 Cottage St. 2nd Floor \nAshland\, OH 44805
URL:https://skywarnd3.com/event/ashland-co-nws-skywarn-class-april-14-2026-600-800-pm/
LOCATION:Ashland County EMA\, 110 Cottage St.\, Ashland\, OH\, 44805\, United States
CATEGORIES:NWS Cleveland
END:VEVENT
BEGIN:VEVENT
DTSTART;TZID=America/New_York:20260711T110000
DTEND;TZID=America/New_York:20260711T190000
DTSTAMP:20260425T090257
CREATED:20260320T183619Z
LAST-MODIFIED:20260421T162636Z
UID:4407-1783767600-1783796400@skywarnd3.com
SUMMARY:Mansfield 2026 Mid-Summer Hamfest - July 11\, 2026 - NOW:11am to 7pm
DESCRIPTION:
URL:https://skywarnd3.com/event/mansfield-mid-summer-2026-hamfest/
LOCATION:The Ontario Center (old richland mall)\, 2209 Richland Mall\, Ontario\, OH\, 44906\, United States
CATEGORIES:IARC
END:VEVENT
END:VCALENDAR